BEGIN:VCALENDAR
VERSION:2.0
PRODID:-//UCC
CALSCALE:GREGORIAN
METHOD:PUBLISH
X-WR-CALNAME:UCC
X-ORIGINAL-URL:https://ucc.ovh/event/strategy-for-diabetes-treatment/
X-WR-CALDESC:Conférence
BEGIN:VEVENT
DTSTART:20240524T000000
DTEND:20240524T000000
SUMMARY:Conférence
DESCRIPTION:But in certain circumstances and owing to the claims of duty or the obligations of business it will frequently occur that pleasures.
LOCATION:Campus de Limete
END:VEVENT
END:VCALENDAR
