BEGIN:VCALENDAR
VERSION:2.0
PRODID:-//UCC
CALSCALE:GREGORIAN
METHOD:PUBLISH
X-WR-CALNAME:UCC
X-ORIGINAL-URL:https://ucc.ovh/event/chicago-architecture-foundation-river-cruise/
X-WR-CALDESC:Conférence
BEGIN:VEVENT
DTSTART:20240607T000000
DTEND:20240607T000000
SUMMARY:Conférence
DESCRIPTION:Vous êtes convié
LOCATION:Campus de Mont Ngafula
END:VEVENT
END:VCALENDAR
